BEGIN:VCALENDAR
VERSION:2.0
PRODID:-//pretix//pretix.eu//
BEGIN:VTIMEZONE
TZID:Europe/Berlin
BEGIN:STANDARD
DTSTART:20001029T040000
RRULE:FREQ=YEARLY;BYDAY=-1SU;BYMONTH=10
TZNAME:CET
TZOFFSETFROM:+0200
TZOFFSETTO:+0100
END:STANDARD
BEGIN:DAYLIGHT
DTSTART:20000326T030000
RRULE:FREQ=YEARLY;BYDAY=-1SU;BYMONTH=3
TZNAME:CEST
TZOFFSETFROM:+0100
TZOFFSETTO:+0200
END:DAYLIGHT
END:VTIMEZONE
BEGIN:VEVENT
UID:pretix-svmusterstadt-vt-testsportsonderevents-4548551@svmusterstadt.ver
 einsticket.de
DTSTART;TZID=Europe/Berlin:20290629T143000
DTEND;TZID=Europe/Berlin:20290629T153000
DESCRIPTION:Tickets: https://svmusterstadt.vereinsticket.de/vt-testsportson
 derevents/4548551/\nVeranstalter: VT Musterverein 2021 e.V.
DTSTAMP:20260424T214611Z
LOCATION:EURESA & TFS Headquarter\, Kursraum\, Graf-Siegfried-Str. 6\, 5443
 9 Saarburg
SUMMARY:Saisonabschluss 1. Mannschaft
END:VEVENT
END:VCALENDAR
