BEGIN:VCALENDAR
VERSION:2.0
PRODID:-//pretix//pretix.eu//
BEGIN:VTIMEZONE
TZID:Europe/Berlin
BEGIN:STANDARD
DTSTART:20001029T040000
RRULE:FREQ=YEARLY;BYDAY=-1SU;BYMONTH=10
TZNAME:CET
TZOFFSETFROM:+0200
TZOFFSETTO:+0100
END:STANDARD
BEGIN:DAYLIGHT
DTSTART:20000326T030000
RRULE:FREQ=YEARLY;BYDAY=-1SU;BYMONTH=3
TZNAME:CEST
TZOFFSETFROM:+0100
TZOFFSETTO:+0200
END:DAYLIGHT
END:VTIMEZONE
BEGIN:VEVENT
UID:pretix-svmusterstadt-vt-testsportsaison-4548533@svmusterstadt.vereinsti
 cket.de
DTSTART;TZID=Europe/Berlin:20290416T140000
DTEND;TZID=Europe/Berlin:20290416T150000
DESCRIPTION:Tickets: https://svmusterstadt.vereinsticket.de/vt-testsportsai
 son/4548533/\nVeranstalter: VT Musterverein 2021 e.V.
DTSTAMP:20260424T230142Z
LOCATION:Anlage für Präsentationen\, Stadion\, 54439 Saarburg
SUMMARY:Spieltag gg. GEGNER (Mitgliederspieltag)
END:VEVENT
END:VCALENDAR
