BEGIN:VCALENDAR
VERSION:2.0
PRODID:-//pretix//pretix.eu//
BEGIN:VTIMEZONE
TZID:Europe/Berlin
BEGIN:STANDARD
DTSTART:20001029T040000
RRULE:FREQ=YEARLY;BYDAY=-1SU;BYMONTH=10
TZNAME:CET
TZOFFSETFROM:+0200
TZOFFSETTO:+0100
END:STANDARD
BEGIN:DAYLIGHT
DTSTART:20000326T030000
RRULE:FREQ=YEARLY;BYDAY=-1SU;BYMONTH=3
TZNAME:CEST
TZOFFSETFROM:+0100
TZOFFSETTO:+0200
END:DAYLIGHT
END:VTIMEZONE
BEGIN:VEVENT
UID:pretix-svmusterstadt-vt-testsportcamps-4551831@svmusterstadt.vereinstic
 ket.de
DTSTART;TZID=Europe/Berlin:20290608T140000
DTEND;TZID=Europe/Berlin:20290608T150000
DESCRIPTION:Tickets: https://svmusterstadt.vereinsticket.de/vt-testsportcam
 ps/4551831/\nVeranstalter: VT Musterverein 2021 e.V.
DTSTAMP:20260424T214442Z
LOCATION:Anlage für Präsentationen\, Mehrzweckgelände\, 54439 Saarburg
SUMMARY:Freizeit-/Feriencamp
END:VEVENT
END:VCALENDAR
