BEGIN:VCALENDAR
VERSION:2.0
PRODID:-//pretix//pretix.eu//
BEGIN:VTIMEZONE
TZID:Europe/Berlin
BEGIN:STANDARD
DTSTART:20001029T040000
RRULE:FREQ=YEARLY;BYDAY=-1SU;BYMONTH=10
TZNAME:CET
TZOFFSETFROM:+0200
TZOFFSETTO:+0100
END:STANDARD
BEGIN:DAYLIGHT
DTSTART:20000326T030000
RRULE:FREQ=YEARLY;BYDAY=-1SU;BYMONTH=3
TZNAME:CEST
TZOFFSETFROM:+0100
TZOFFSETTO:+0200
END:DAYLIGHT
END:VTIMEZONE
BEGIN:VEVENT
UID:pretix-svmusterstadt-vt-testsonderevents-4548584@svmusterstadt.vereinst
 icket.de
DTSTART;TZID=Europe/Berlin:20290703T140000
DTEND;TZID=Europe/Berlin:20290703T150000
DESCRIPTION:Tickets: https://svmusterstadt.vereinsticket.de/vt-testsonderev
 ents/4548584/\nVeranstalter: VT Musterverein 2021 e.V.
DTSTAMP:20260424T213944Z
LOCATION:Anlage für Präsentationen\, Saal\, 54439 Saarburg
SUMMARY:Konferenz
END:VEVENT
END:VCALENDAR
