BEGIN:VCALENDAR
VERSION:2.0
PRODID:-//pretix//pretix.eu//
BEGIN:VTIMEZONE
TZID:Europe/Berlin
BEGIN:STANDARD
DTSTART:20001029T040000
RRULE:FREQ=YEARLY;BYDAY=-1SU;BYMONTH=10
TZNAME:CET
TZOFFSETFROM:+0200
TZOFFSETTO:+0100
END:STANDARD
BEGIN:DAYLIGHT
DTSTART:20000326T030000
RRULE:FREQ=YEARLY;BYDAY=-1SU;BYMONTH=3
TZNAME:CEST
TZOFFSETFROM:+0100
TZOFFSETTO:+0200
END:DAYLIGHT
END:VTIMEZONE
BEGIN:VEVENT
UID:pretix-svmusterstadt-vt-testkultur-4550835@svmusterstadt.vereinsticket.
 de
DTSTART;TZID=Europe/Berlin:20290708T120000
DTEND;TZID=Europe/Berlin:20290708T130000
DESCRIPTION:Tickets: https://svmusterstadt.vereinsticket.de/vt-testkultur/4
 550835/\nVeranstalter: VT Musterverein 2021 e.V.
DTSTAMP:20260424T213703Z
LOCATION:Anlage für Präsentationen\, Mehrzweckgelände\, 54439 Saarburg
SUMMARY:Zirkusaufführung
END:VEVENT
END:VCALENDAR
