BEGIN:VCALENDAR
VERSION:2.0
PRODID:-//pretix//pretix.eu//
BEGIN:VTIMEZONE
TZID:Europe/Berlin
BEGIN:STANDARD
DTSTART:20001029T040000
RRULE:FREQ=YEARLY;BYDAY=-1SU;BYMONTH=10
TZNAME:CET
TZOFFSETFROM:+0200
TZOFFSETTO:+0100
END:STANDARD
BEGIN:DAYLIGHT
DTSTART:20000326T030000
RRULE:FREQ=YEARLY;BYDAY=-1SU;BYMONTH=3
TZNAME:CEST
TZOFFSETFROM:+0100
TZOFFSETTO:+0200
END:DAYLIGHT
END:VTIMEZONE
BEGIN:VEVENT
UID:pretix-svmusterstadt-st-dauerkarten-vt-0@svmusterstadt.vereinsticket.de
DTSTART;VALUE=DATE:20250411
DTEND;VALUE=DATE:20250412
DESCRIPTION:Tickets: https://svmusterstadt.vereinsticket.de/st-dauerkarten-
 vt/\nOrganizer: VT Musterverein 2021 e.V.
DTSTAMP:20260424T110133Z
SUMMARY:Dauerkarten (Beispiel)
END:VEVENT
BEGIN:VEVENT
UID:pretix-svmusterstadt-wertgutscheine-0@svmusterstadt.vereinsticket.de
DTSTART;VALUE=DATE:20250917
DTEND;VALUE=DATE:20250918
DESCRIPTION:Tickets: https://svmusterstadt.vereinsticket.de/wertgutscheine/
 \nOrganizer: VT Musterverein 2021 e.V.
DTSTAMP:20260424T110133Z
SUMMARY:Wertgutscheine (Beispiele)
END:VEVENT
BEGIN:VEVENT
UID:pretix-svmusterstadt-vt-karneval-4548585@svmusterstadt.vereinsticket.de
DTSTART;TZID=Europe/Berlin:20281111T111100
DTEND;TZID=Europe/Berlin:20281211T222200
DESCRIPTION:Tickets: https://svmusterstadt.vereinsticket.de/vt-karneval/454
 8585/\nOrganizer: VT Musterverein 2021 e.V.
DTSTAMP:20260424T110133Z
LOCATION:Anlage für Präsentationen\, Mehrzweckgelände\, 54439 Saarburg
SUMMARY:Sessionseröffnung
END:VEVENT
BEGIN:VEVENT
UID:pretix-svmusterstadt-vt-testsonderevents-4819492@svmusterstadt.vereinst
 icket.de
DTSTART;TZID=Europe/Berlin:20290107T190000
DTEND;TZID=Europe/Berlin:20290107T200000
DESCRIPTION:Tickets: https://svmusterstadt.vereinsticket.de/vt-testsonderev
 ents/4819492/\nOrganizer: VT Musterverein 2021 e.V.
DTSTAMP:20260424T110133Z
LOCATION:Anlage für Präsentationen\, 54439 Saarburg
SUMMARY:Vereinsjubiläum
END:VEVENT
BEGIN:VEVENT
UID:pretix-svmusterstadt-vt-testsportsonderevents-4550872@svmusterstadt.ver
 einsticket.de
DTSTART;TZID=Europe/Berlin:20290108T060000
DTEND;TZID=Europe/Berlin:20290108T070000
DESCRIPTION:Tickets: https://svmusterstadt.vereinsticket.de/vt-testsportson
 derevents/4550872/\nOrganizer: VT Musterverein 2021 e.V.
DTSTAMP:20260424T110133Z
LOCATION:Anlage für Präsentationen\, Mehrzweckgelände\, 54439 Saarburg
SUMMARY:Skifreizeit
END:VEVENT
BEGIN:VEVENT
UID:pretix-svmusterstadt-vt-karneval-4550822@svmusterstadt.vereinsticket.de
DTSTART;TZID=Europe/Berlin:20290112T141100
DTEND;TZID=Europe/Berlin:20290112T201100
DESCRIPTION:Tickets: https://svmusterstadt.vereinsticket.de/vt-karneval/455
 0822/\nOrganizer: VT Musterverein 2021 e.V.
DTSTAMP:20260424T110133Z
LOCATION:Anlage für Präsentationen\, Halle\, 54439 Saarburg
SUMMARY:Tanzturnier
END:VEVENT
BEGIN:VEVENT
UID:pretix-svmusterstadt-vt-karneval-4550823@svmusterstadt.vereinsticket.de
DTSTART;TZID=Europe/Berlin:20290113T141100
DTEND;TZID=Europe/Berlin:20290130T181100
DESCRIPTION:Tickets: https://svmusterstadt.vereinsticket.de/vt-karneval/455
 0823/\nOrganizer: VT Musterverein 2021 e.V.
DTSTAMP:20260424T110133Z
LOCATION:Anlage für Präsentationen\, Halle\, 54439 Saarburg
SUMMARY:Kinderkarneval
END:VEVENT
BEGIN:VEVENT
UID:pretix-svmusterstadt-vt-karneval-4550824@svmusterstadt.vereinsticket.de
DTSTART;TZID=Europe/Berlin:20290120T171100
DTEND;TZID=Europe/Berlin:20290120T235900
DESCRIPTION:Tickets: https://svmusterstadt.vereinsticket.de/vt-karneval/455
 0824/\nOrganizer: VT Musterverein 2021 e.V.
DTSTAMP:20260424T110133Z
LOCATION:Anlage für Präsentationen\, Halle\, 54439 Saarburg
SUMMARY:Frauensitzung
END:VEVENT
BEGIN:VEVENT
UID:pretix-svmusterstadt-vt-karneval-4550825@svmusterstadt.vereinsticket.de
DTSTART;TZID=Europe/Berlin:20290210T121100
DTEND;TZID=Europe/Berlin:20290210T180000
DESCRIPTION:Tickets: https://svmusterstadt.vereinsticket.de/vt-karneval/455
 0825/\nOrganizer: VT Musterverein 2021 e.V.
DTSTAMP:20260424T110133Z
LOCATION:Anlage für Präsentationen\, Mehrzweckgelände\, 54439 Saarburg
SUMMARY:Karnevalsumzug
END:VEVENT
BEGIN:VEVENT
UID:pretix-svmusterstadt-vt-karneval-4550422@svmusterstadt.vereinsticket.de
DTSTART;TZID=Europe/Berlin:20290214T191100
DTEND;TZID=Europe/Berlin:20290214T235900
DESCRIPTION:Tickets: https://svmusterstadt.vereinsticket.de/vt-karneval/455
 0422/\nOrganizer: VT Musterverein 2021 e.V.
DTSTAMP:20260424T110133Z
LOCATION:Anlage für Präsentationen\, Halle\, 54439 Saarburg
SUMMARY:Karnevalsparty
END:VEVENT
BEGIN:VEVENT
UID:pretix-svmusterstadt-vt-karneval-4550335@svmusterstadt.vereinsticket.de
DTSTART;TZID=Europe/Berlin:20290228T181100
DTEND;TZID=Europe/Berlin:20290301T235900
DESCRIPTION:Tickets: https://svmusterstadt.vereinsticket.de/vt-karneval/455
 0335/\nOrganizer: VT Musterverein 2021 e.V.
DTSTAMP:20260424T110133Z
LOCATION:Anlage für Präsentationen\, Saal\, 54439 Saarburg
SUMMARY:Große Sitzung
END:VEVENT
BEGIN:VEVENT
UID:pretix-svmusterstadt-vt-testsportcamps-4550870@svmusterstadt.vereinstic
 ket.de
DTSTART;TZID=Europe/Berlin:20290308T120000
DTEND;TZID=Europe/Berlin:20290308T130000
DESCRIPTION:Tickets: https://svmusterstadt.vereinsticket.de/vt-testsportcam
 ps/4550870/\nOrganizer: VT Musterverein 2021 e.V.
DTSTAMP:20260424T110133Z
LOCATION:Anlage für Präsentationen\, Stadion\, 54439 Saarburg
SUMMARY:Trainingslager
END:VEVENT
BEGIN:VEVENT
UID:pretix-svmusterstadt-vt-testsonderevents-4552013@svmusterstadt.vereinst
 icket.de
DTSTART;TZID=Europe/Berlin:20290314T000000
DTEND;TZID=Europe/Berlin:20290314T010000
DESCRIPTION:Tickets: https://svmusterstadt.vereinsticket.de/vt-testsonderev
 ents/4552013/\nOrganizer: VT Musterverein 2021 e.V.
DTSTAMP:20260424T110133Z
LOCATION:Anlage für Präsentationen\, Saal\, 54439 Saarburg
SUMMARY:Plattformgeburtstag
END:VEVENT
BEGIN:VEVENT
UID:pretix-svmusterstadt-vt-testsportsaison-4550876@svmusterstadt.vereinsti
 cket.de
DTSTART;TZID=Europe/Berlin:20290408T140000
DTEND;TZID=Europe/Berlin:20290408T150000
DESCRIPTION:Tickets: https://svmusterstadt.vereinsticket.de/vt-testsportsai
 son/4550876/\nOrganizer: VT Musterverein 2021 e.V.
DTSTAMP:20260424T110133Z
LOCATION:Anlage für Präsentationen\, Stadion\, 54439 Saarburg
SUMMARY:Saisonauftakt vs. GEGNER
END:VEVENT
BEGIN:VEVENT
UID:pretix-svmusterstadt-vt-testsportsaison-4661606@svmusterstadt.vereinsti
 cket.de
DTSTART;TZID=Europe/Berlin:20290409T140000
DTEND;TZID=Europe/Berlin:20290409T150000
DESCRIPTION:Tickets: https://svmusterstadt.vereinsticket.de/vt-testsportsai
 son/4661606/\nOrganizer: VT Musterverein 2021 e.V.
DTSTAMP:20260424T110133Z
LOCATION:Anlage für Präsentationen\, Halle\, 54439 Saarburg
SUMMARY:Heimspiel vs.GEGNER (Handball)
END:VEVENT
BEGIN:VEVENT
UID:pretix-svmusterstadt-vt-testsportsaison-4650464@svmusterstadt.vereinsti
 cket.de
DTSTART;TZID=Europe/Berlin:20290410T140000
DTEND;TZID=Europe/Berlin:20290410T150000
DESCRIPTION:Tickets: https://svmusterstadt.vereinsticket.de/vt-testsportsai
 son/4650464/\nOrganizer: VT Musterverein 2021 e.V.
DTSTAMP:20260424T110133Z
LOCATION:Anlage für Präsentationen\, Halle\, 54439 Saarburg
SUMMARY:Heimspiel vs.GEGNER (Volleyball)
END:VEVENT
BEGIN:VEVENT
UID:pretix-svmusterstadt-vt-testsportsaison-4550880@svmusterstadt.vereinsti
 cket.de
DTSTART;TZID=Europe/Berlin:20290411T140000
DTEND;TZID=Europe/Berlin:20290411T150000
DESCRIPTION:Tickets: https://svmusterstadt.vereinsticket.de/vt-testsportsai
 son/4550880/\nOrganizer: VT Musterverein 2021 e.V.
DTSTAMP:20260424T110133Z
LOCATION:Anlage für Präsentationen\, Halle\, 54439 Saarburg
SUMMARY:Heimspiel vs. GEGNER (Basketball)
END:VEVENT
BEGIN:VEVENT
UID:pretix-svmusterstadt-vt-testsportcamps-4548546@svmusterstadt.vereinstic
 ket.de
DTSTART;TZID=Europe/Berlin:20290412T080000
DTEND;TZID=Europe/Berlin:20290412T090000
DESCRIPTION:Tickets: https://svmusterstadt.vereinsticket.de/vt-testsportcam
 ps/4548546/\nOrganizer: VT Musterverein 2021 e.V.
DTSTAMP:20260424T110133Z
LOCATION:Anlage für Präsentationen\, Mehrzweckgelände\, 54439 Saarburg
SUMMARY:Frühlingscamp
END:VEVENT
BEGIN:VEVENT
UID:pretix-svmusterstadt-vt-testsportsaison-4550878@svmusterstadt.vereinsti
 cket.de
DTSTART;TZID=Europe/Berlin:20290412T140000
DTEND;TZID=Europe/Berlin:20290412T150000
DESCRIPTION:Tickets: https://svmusterstadt.vereinsticket.de/vt-testsportsai
 son/4550878/\nOrganizer: VT Musterverein 2021 e.V.
DTSTAMP:20260424T110133Z
LOCATION:Anlage für Präsentationen\, Stadion\, 54439 Saarburg
SUMMARY:Heimspiel vs. GEGNER (Eishockey)
END:VEVENT
BEGIN:VEVENT
UID:pretix-svmusterstadt-vt-testsportsaison-4548530@svmusterstadt.vereinsti
 cket.de
DTSTART;TZID=Europe/Berlin:20290413T140000
DTEND;TZID=Europe/Berlin:20290413T150000
DESCRIPTION:Tickets: https://svmusterstadt.vereinsticket.de/vt-testsportsai
 son/4548530/\nOrganizer: VT Musterverein 2021 e.V.
DTSTAMP:20260424T110133Z
LOCATION:Anlage für Präsentationen\, Stadion\, 54439 Saarburg
SUMMARY:Heimspiel vs. GEGNER (Fußball)
END:VEVENT
BEGIN:VEVENT
UID:pretix-svmusterstadt-vt-testkultur-4550833@svmusterstadt.vereinsticket.
 de
DTSTART;TZID=Europe/Berlin:20290415T100000
DTEND;TZID=Europe/Berlin:20290415T110000
DESCRIPTION:Tickets: https://svmusterstadt.vereinsticket.de/vt-testkultur/4
 550833/\nOrganizer: VT Musterverein 2021 e.V.
DTSTAMP:20260424T110133Z
LOCATION:Anlage für Präsentationen\, Mehrzweckgelände\, 54439 Saarburg
SUMMARY:Museum
END:VEVENT
BEGIN:VEVENT
UID:pretix-svmusterstadt-vt-testsportsaison-4548533@svmusterstadt.vereinsti
 cket.de
DTSTART;TZID=Europe/Berlin:20290416T140000
DTEND;TZID=Europe/Berlin:20290416T150000
DESCRIPTION:Tickets: https://svmusterstadt.vereinsticket.de/vt-testsportsai
 son/4548533/\nOrganizer: VT Musterverein 2021 e.V.
DTSTAMP:20260424T110133Z
LOCATION:Anlage für Präsentationen\, Stadion\, 54439 Saarburg
SUMMARY:Spieltag gg. GEGNER (Mitgliederspieltag)
END:VEVENT
BEGIN:VEVENT
UID:pretix-svmusterstadt-vt-testsportsaison-4673808@svmusterstadt.vereinsti
 cket.de
DTSTART;TZID=Europe/Berlin:20290417T140000
DTEND;TZID=Europe/Berlin:20290417T150000
DESCRIPTION:Tickets: https://svmusterstadt.vereinsticket.de/vt-testsportsai
 son/4673808/\nOrganizer: VT Musterverein 2021 e.V.
DTSTAMP:20260424T110133Z
LOCATION:Anlage für Präsentationen\, Stadion\, 54439 Saarburg
SUMMARY:Spieltag gg. GEGNER (Pay What You Want)
END:VEVENT
BEGIN:VEVENT
UID:pretix-svmusterstadt-vt-testsportsaison-4548480@svmusterstadt.vereinsti
 cket.de
DTSTART;TZID=Europe/Berlin:20290418T140000
DTEND;TZID=Europe/Berlin:20290418T150000
DESCRIPTION:Tickets: https://svmusterstadt.vereinsticket.de/vt-testsportsai
 son/4548480/\nOrganizer: VT Musterverein 2021 e.V.
DTSTAMP:20260424T110133Z
LOCATION:Anlage für Präsentationen\, Stadion\, 54439 Saarburg
SUMMARY:Spieltag gg. GEGNER (Familienspieltag)
END:VEVENT
BEGIN:VEVENT
UID:pretix-svmusterstadt-vt-testsportsonderevents-4548442@svmusterstadt.ver
 einsticket.de
DTSTART;TZID=Europe/Berlin:20290425T160000
DTEND;TZID=Europe/Berlin:20290425T170000
DESCRIPTION:Tickets: https://svmusterstadt.vereinsticket.de/vt-testsportson
 derevents/4548442/\nOrganizer: VT Musterverein 2021 e.V.
DTSTAMP:20260424T110133Z
LOCATION:Anlage für Präsentationen\, Mehrzweckgelände\, 54439 Saarburg
SUMMARY:Vereinsabend
END:VEVENT
BEGIN:VEVENT
UID:pretix-svmusterstadt-vt-testsportsonderevents-4548550@svmusterstadt.ver
 einsticket.de
DTSTART;TZID=Europe/Berlin:20290427T090000
DTEND;TZID=Europe/Berlin:20290427T100000
DESCRIPTION:Tickets: https://svmusterstadt.vereinsticket.de/vt-testsportson
 derevents/4548550/\nOrganizer: VT Musterverein 2021 e.V.
DTSTAMP:20260424T110133Z
LOCATION:Anlage für Präsentationen\, Stadion\, 54439 Saarburg
SUMMARY:Jugendturnier 
END:VEVENT
BEGIN:VEVENT
UID:pretix-svmusterstadt-vt-testsonderevents-4548440@svmusterstadt.vereinst
 icket.de
DTSTART;TZID=Europe/Berlin:20290427T140000
DTEND;TZID=Europe/Berlin:20290427T150000
DESCRIPTION:Tickets: https://svmusterstadt.vereinsticket.de/vt-testsonderev
 ents/4548440/\nOrganizer: VT Musterverein 2021 e.V.
DTSTAMP:20260424T110133Z
LOCATION:Anlage für Präsentationen\, Halle\, 54439 Saarburg
SUMMARY:Networking Event
END:VEVENT
BEGIN:VEVENT
UID:pretix-svmusterstadt-vt-testsportsaison-4550875@svmusterstadt.vereinsti
 cket.de
DTSTART;TZID=Europe/Berlin:20290428T140000
DTEND;TZID=Europe/Berlin:20290428T150000
DESCRIPTION:Tickets: https://svmusterstadt.vereinsticket.de/vt-testsportsai
 son/4550875/\nOrganizer: VT Musterverein 2021 e.V.
DTSTAMP:20260424T110133Z
LOCATION:Anlage für Präsentationen\, Stadion\, 54439 Saarburg
SUMMARY:Heim-Fans: DERBYSPIELTAG
END:VEVENT
BEGIN:VEVENT
UID:pretix-svmusterstadt-vt-testkultur-4548436@svmusterstadt.vereinsticket.
 de
DTSTART;TZID=Europe/Berlin:20290430T000000
DTEND;TZID=Europe/Berlin:20290430T010000
DESCRIPTION:Tickets: https://svmusterstadt.vereinsticket.de/vt-testkultur/4
 548436/\nOrganizer: VT Musterverein 2021 e.V.
DTSTAMP:20260424T110133Z
LOCATION:Anlage für Präsentationen\, Halle\, 54439 Saarburg
SUMMARY:Tanz in den Mai
END:VEVENT
BEGIN:VEVENT
UID:pretix-svmusterstadt-vt-testkultur-4550830@svmusterstadt.vereinsticket.
 de
DTSTART;TZID=Europe/Berlin:20290509T190000
DTEND;TZID=Europe/Berlin:20290509T200000
DESCRIPTION:Tickets: https://svmusterstadt.vereinsticket.de/vt-testkultur/4
 550830/\nOrganizer: VT Musterverein 2021 e.V.
DTSTAMP:20260424T110133Z
LOCATION:Anlage für Präsentationen\, Saal\, 54439 Saarburg
SUMMARY:Liveshow
END:VEVENT
BEGIN:VEVENT
UID:pretix-svmusterstadt-vt-testsportsaison-4550877@svmusterstadt.vereinsti
 cket.de
DTSTART;TZID=Europe/Berlin:20290512T140000
DTEND;TZID=Europe/Berlin:20290512T150000
DESCRIPTION:Tickets: https://svmusterstadt.vereinsticket.de/vt-testsportsai
 son/4550877/\nOrganizer: VT Musterverein 2021 e.V.
DTSTAMP:20260424T110133Z
LOCATION:Anlage für Präsentationen\, Stadion\, 54439 Saarburg
SUMMARY:Heimspiel vs. Gegner (Ausverkauftes Kontingent)
END:VEVENT
BEGIN:VEVENT
UID:pretix-svmusterstadt-vt-testkultur-4548558@svmusterstadt.vereinsticket.
 de
DTSTART;TZID=Europe/Berlin:20290516T180000
DTEND;TZID=Europe/Berlin:20290516T190000
DESCRIPTION:Tickets: https://svmusterstadt.vereinsticket.de/vt-testkultur/4
 548558/\nOrganizer: VT Musterverein 2021 e.V.
DTSTAMP:20260424T110133Z
LOCATION:Anlage für Präsentationen\, Saal\, 54439 Saarburg
SUMMARY:Buchlesung
END:VEVENT
BEGIN:VEVENT
UID:pretix-svmusterstadt-vt-testmusik-4548568@svmusterstadt.vereinsticket.d
 e
DTSTART;TZID=Europe/Berlin:20290522T180000
DTEND;TZID=Europe/Berlin:20290522T190000
DESCRIPTION:Tickets: https://svmusterstadt.vereinsticket.de/vt-testmusik/45
 48568/\nAdmission: 2026-03-04 18:00\nOrganizer: VT Musterverein 2021 e.V.
DTSTAMP:20260424T110133Z
LOCATION:Anlage für Präsentationen\, Stadion\, 54439 Saarburg
SUMMARY:Konzert
END:VEVENT
BEGIN:VEVENT
UID:pretix-svmusterstadt-vt-testkurse-4548577@svmusterstadt.vereinsticket.d
 e
DTSTART;TZID=Europe/Berlin:20290523T130000
DTEND;TZID=Europe/Berlin:20290523T140000
DESCRIPTION:Tickets: https://svmusterstadt.vereinsticket.de/vt-testkurse/45
 48577/\nOrganizer: VT Musterverein 2021 e.V.
DTSTAMP:20260424T110133Z
LOCATION:Anlage für Präsentationen\, Halle\, 54439 Saarburg
SUMMARY:Fitnesskurs
END:VEVENT
BEGIN:VEVENT
UID:pretix-svmusterstadt-vt-testmusik-4548571@svmusterstadt.vereinsticket.d
 e
DTSTART;TZID=Europe/Berlin:20290523T213000
DTEND;TZID=Europe/Berlin:20290523T223000
DESCRIPTION:Tickets: https://svmusterstadt.vereinsticket.de/vt-testmusik/45
 48571/\nOrganizer: VT Musterverein 2021 e.V.
DTSTAMP:20260424T110133Z
LOCATION:Anlage für Präsentationen\, Halle\, 54439 Saarburg
SUMMARY:Diskothek
END:VEVENT
BEGIN:VEVENT
UID:pretix-svmusterstadt-vt-testkurse-4548578@svmusterstadt.vereinsticket.d
 e
DTSTART;TZID=Europe/Berlin:20290530T130000
DTEND;TZID=Europe/Berlin:20290530T140000
DESCRIPTION:Tickets: https://svmusterstadt.vereinsticket.de/vt-testkurse/45
 48578/\nOrganizer: VT Musterverein 2021 e.V.
DTSTAMP:20260424T110133Z
LOCATION:Anlage für Präsentationen\, Mehrzweckgelände\, 54439 Saarburg
SUMMARY:Sportkurs
END:VEVENT
BEGIN:VEVENT
UID:pretix-svmusterstadt-vt-testkultur-4548557@svmusterstadt.vereinsticket.
 de
DTSTART;TZID=Europe/Berlin:20290531T180000
DTEND;TZID=Europe/Berlin:20290531T190000
DESCRIPTION:Tickets: https://svmusterstadt.vereinsticket.de/vt-testkultur/4
 548557/\nOrganizer: VT Musterverein 2021 e.V.
DTSTAMP:20260424T110133Z
LOCATION:Anlage für Präsentationen\, Saal\, 54439 Saarburg
SUMMARY:Theateraufführung
END:VEVENT
BEGIN:VEVENT
UID:pretix-svmusterstadt-vt-testmusik-4550848@svmusterstadt.vereinsticket.d
 e
DTSTART;TZID=Europe/Berlin:20290603T160000
DTEND;TZID=Europe/Berlin:20290603T170000
DESCRIPTION:Tickets: https://svmusterstadt.vereinsticket.de/vt-testmusik/45
 50848/\nOrganizer: VT Musterverein 2021 e.V.
DTSTAMP:20260424T110133Z
LOCATION:Anlage für Präsentationen\, Saal\, 54439 Saarburg
SUMMARY:Operette
END:VEVENT
BEGIN:VEVENT
UID:pretix-svmusterstadt-vt-testkultur-4550832@svmusterstadt.vereinsticket.
 de
DTSTART;TZID=Europe/Berlin:20290606T100000
DTEND;TZID=Europe/Berlin:20290606T110000
DESCRIPTION:Tickets: https://svmusterstadt.vereinsticket.de/vt-testkultur/4
 550832/\nOrganizer: VT Musterverein 2021 e.V.
DTSTAMP:20260424T110133Z
LOCATION:Anlage für Präsentationen\, Mehrzweckgelände\, 54439 Saarburg
SUMMARY:Atelier
END:VEVENT
BEGIN:VEVENT
UID:pretix-svmusterstadt-vt-testkurse-4548582@svmusterstadt.vereinsticket.d
 e
DTSTART;TZID=Europe/Berlin:20290606T130000
DTEND;TZID=Europe/Berlin:20290606T140000
DESCRIPTION:Tickets: https://svmusterstadt.vereinsticket.de/vt-testkurse/45
 48582/\nOrganizer: VT Musterverein 2021 e.V.
DTSTAMP:20260424T110133Z
LOCATION:Anlage für Präsentationen\, Halle\, 54439 Saarburg
SUMMARY:Ernährungsworkshop
END:VEVENT
BEGIN:VEVENT
UID:pretix-svmusterstadt-vt-testsportcamps-4551831@svmusterstadt.vereinstic
 ket.de
DTSTART;TZID=Europe/Berlin:20290608T140000
DTEND;TZID=Europe/Berlin:20290608T150000
DESCRIPTION:Tickets: https://svmusterstadt.vereinsticket.de/vt-testsportcam
 ps/4551831/\nOrganizer: VT Musterverein 2021 e.V.
DTSTAMP:20260424T110133Z
LOCATION:Anlage für Präsentationen\, Mehrzweckgelände\, 54439 Saarburg
SUMMARY:Freizeit-/Feriencamp
END:VEVENT
BEGIN:VEVENT
UID:pretix-svmusterstadt-vt-testsportsaison-4550883@svmusterstadt.vereinsti
 cket.de
DTSTART;TZID=Europe/Berlin:20290610T120000
DTEND;TZID=Europe/Berlin:20290610T130000
DESCRIPTION:Tickets: https://svmusterstadt.vereinsticket.de/vt-testsportsai
 son/4550883/\nOrganizer: VT Musterverein 2021 e.V.
DTSTAMP:20260424T110133Z
LOCATION:Anlage für Präsentationen\, Mehrzweckgelände\, 54439 Saarburg
SUMMARY:Fanbusreise zum Auswärtsspiel
END:VEVENT
BEGIN:VEVENT
UID:pretix-svmusterstadt-vt-testsonderevents-4548583@svmusterstadt.vereinst
 icket.de
DTSTART;TZID=Europe/Berlin:20290613T100000
DTEND;TZID=Europe/Berlin:20290613T110000
DESCRIPTION:Tickets: https://svmusterstadt.vereinsticket.de/vt-testsonderev
 ents/4548583/\nOrganizer: VT Musterverein 2021 e.V.
DTSTAMP:20260424T110133Z
LOCATION:Anlage für Präsentationen\, Mehrzweckgelände\, 54439 Saarburg
SUMMARY:Messe
END:VEVENT
BEGIN:VEVENT
UID:pretix-svmusterstadt-vt-testsportsonderevents-4548551@svmusterstadt.ver
 einsticket.de
DTSTART;TZID=Europe/Berlin:20290629T143000
DTEND;TZID=Europe/Berlin:20290629T153000
DESCRIPTION:Tickets: https://svmusterstadt.vereinsticket.de/vt-testsportson
 derevents/4548551/\nOrganizer: VT Musterverein 2021 e.V.
DTSTAMP:20260424T110133Z
LOCATION:EURESA & TFS Headquarter\, Kursraum\, Graf-Siegfried-Str. 6\, 5443
 9 Saarburg
SUMMARY:Saisonabschluss 1. Mannschaft
END:VEVENT
BEGIN:VEVENT
UID:pretix-svmusterstadt-vt-testsonderevents-4548584@svmusterstadt.vereinst
 icket.de
DTSTART;TZID=Europe/Berlin:20290703T140000
DTEND;TZID=Europe/Berlin:20290703T150000
DESCRIPTION:Tickets: https://svmusterstadt.vereinsticket.de/vt-testsonderev
 ents/4548584/\nOrganizer: VT Musterverein 2021 e.V.
DTSTAMP:20260424T110133Z
LOCATION:Anlage für Präsentationen\, Saal\, 54439 Saarburg
SUMMARY:Konferenz
END:VEVENT
BEGIN:VEVENT
UID:pretix-svmusterstadt-vt-testkurse-4550837@svmusterstadt.vereinsticket.d
 e
DTSTART;TZID=Europe/Berlin:20290707T120000
DTEND;TZID=Europe/Berlin:20290707T130000
DESCRIPTION:Tickets: https://svmusterstadt.vereinsticket.de/vt-testkurse/45
 50837/\nOrganizer: VT Musterverein 2021 e.V.
DTSTAMP:20260424T110133Z
LOCATION:Anlage für Präsentationen\, Halle\, 54439 Saarburg
SUMMARY:Body-Screening
END:VEVENT
BEGIN:VEVENT
UID:pretix-svmusterstadt-vt-testkultur-4550835@svmusterstadt.vereinsticket.
 de
DTSTART;TZID=Europe/Berlin:20290708T120000
DTEND;TZID=Europe/Berlin:20290708T130000
DESCRIPTION:Tickets: https://svmusterstadt.vereinsticket.de/vt-testkultur/4
 550835/\nOrganizer: VT Musterverein 2021 e.V.
DTSTAMP:20260424T110133Z
LOCATION:Anlage für Präsentationen\, Mehrzweckgelände\, 54439 Saarburg
SUMMARY:Zirkusaufführung
END:VEVENT
BEGIN:VEVENT
UID:pretix-svmusterstadt-vt-testsportsonderevents-4550861@svmusterstadt.ver
 einsticket.de
DTSTART;TZID=Europe/Berlin:20290708T160000
DTEND;TZID=Europe/Berlin:20290708T170000
DESCRIPTION:Tickets: https://svmusterstadt.vereinsticket.de/vt-testsportson
 derevents/4550861/\nOrganizer: VT Musterverein 2021 e.V.
DTSTAMP:20260424T110133Z
LOCATION:Anlage für Präsentationen\, Stadion\, 54439 Saarburg
SUMMARY:Sportwoche
END:VEVENT
BEGIN:VEVENT
UID:pretix-svmusterstadt-vt-testsportcamps-4548548@svmusterstadt.vereinstic
 ket.de
DTSTART;TZID=Europe/Berlin:20290712T080000
DTEND;TZID=Europe/Berlin:20290712T090000
DESCRIPTION:Tickets: https://svmusterstadt.vereinsticket.de/vt-testsportcam
 ps/4548548/\nOrganizer: VT Musterverein 2021 e.V.
DTSTAMP:20260424T110133Z
LOCATION:Anlage für Präsentationen\, Mehrzweckgelände\, 54439 Saarburg
SUMMARY:Sommerferiencamp
END:VEVENT
BEGIN:VEVENT
UID:pretix-svmusterstadt-vt-testkurse-4550838@svmusterstadt.vereinsticket.d
 e
DTSTART;TZID=Europe/Berlin:20290713T120000
DTEND;TZID=Europe/Berlin:20290713T130000
DESCRIPTION:Tickets: https://svmusterstadt.vereinsticket.de/vt-testkurse/45
 50838/\nOrganizer: VT Musterverein 2021 e.V.
DTSTAMP:20260424T110133Z
LOCATION:Anlage für Präsentationen\, Halle\, 54439 Saarburg
SUMMARY:Functional Training
END:VEVENT
BEGIN:VEVENT
UID:pretix-svmusterstadt-vt-testsportsonderevents-4550858@svmusterstadt.ver
 einsticket.de
DTSTART;TZID=Europe/Berlin:20290720T140000
DTEND;TZID=Europe/Berlin:20290720T150000
DESCRIPTION:Tickets: https://svmusterstadt.vereinsticket.de/vt-testsportson
 derevents/4550858/\nOrganizer: VT Musterverein 2021 e.V.
DTSTAMP:20260424T110133Z
LOCATION:Anlage für Präsentationen\, Stadion\, 54439 Saarburg
SUMMARY:Mannschaftsfahrt
END:VEVENT
BEGIN:VEVENT
UID:pretix-svmusterstadt-vt-testmusik-4548570@svmusterstadt.vereinsticket.d
 e
DTSTART;TZID=Europe/Berlin:20290724T100000
DTEND;TZID=Europe/Berlin:20290724T110000
DESCRIPTION:Tickets: https://svmusterstadt.vereinsticket.de/vt-testmusik/45
 48570/\nOrganizer: VT Musterverein 2021 e.V.
DTSTAMP:20260424T110133Z
LOCATION:Anlage für Präsentationen\, Mehrzweckgelände\, 54439 Saarburg
SUMMARY:Festival
END:VEVENT
BEGIN:VEVENT
UID:pretix-svmusterstadt-vt-testsportsonderevents-4550869@svmusterstadt.ver
 einsticket.de
DTSTART;TZID=Europe/Berlin:20290808T180000
DTEND;TZID=Europe/Berlin:20290808T190000
DESCRIPTION:Tickets: https://svmusterstadt.vereinsticket.de/vt-testsportson
 derevents/4550869/\nOrganizer: VT Musterverein 2021 e.V.
DTSTAMP:20260424T110133Z
LOCATION:Anlage für Präsentationen\, Mehrzweckgelände\, 54439 Saarburg
SUMMARY:Puplic Viewing
END:VEVENT
BEGIN:VEVENT
UID:pretix-svmusterstadt-vt-testkultur-4550831@svmusterstadt.vereinsticket.
 de
DTSTART;TZID=Europe/Berlin:20291012T180000
DTEND;TZID=Europe/Berlin:20291012T190000
DESCRIPTION:Tickets: https://svmusterstadt.vereinsticket.de/vt-testkultur/4
 550831/\nOrganizer: VT Musterverein 2021 e.V.
DTSTAMP:20260424T110133Z
LOCATION:Anlage für Präsentationen\, Halle\, 54439 Saarburg
SUMMARY:Oktoberfest
END:VEVENT
BEGIN:VEVENT
UID:pretix-svmusterstadt-vt-testsportsonderevents-4655478@svmusterstadt.ver
 einsticket.de
DTSTART;TZID=Europe/Berlin:20291022T180000
DTEND;TZID=Europe/Berlin:20291022T190000
DESCRIPTION:Tickets: https://svmusterstadt.vereinsticket.de/vt-testsportson
 derevents/4655478/\nOrganizer: VT Musterverein 2021 e.V.
DTSTAMP:20260424T110133Z
LOCATION:Anlage für Präsentationen\, Mehrzweckgelände\, 54439 Saarburg
SUMMARY:Fighting Event
END:VEVENT
BEGIN:VEVENT
UID:pretix-svmusterstadt-vt-testkultur-4550834@svmusterstadt.vereinsticket.
 de
DTSTART;TZID=Europe/Berlin:20291231T190000
DTEND;TZID=Europe/Berlin:20291231T200000
DESCRIPTION:Tickets: https://svmusterstadt.vereinsticket.de/vt-testkultur/4
 550834/\nOrganizer: VT Musterverein 2021 e.V.
DTSTAMP:20260424T110133Z
LOCATION:Anlage für Präsentationen\, Saal\, 54439 Saarburg
SUMMARY:Silvesterparty
END:VEVENT
END:VCALENDAR
